BEGIN:VCALENDAR
VERSION:2.0
PRODID:-//wp-events-plugin.com//7.2.3.1//EN
TZID:Europe/Berlin
X-WR-TIMEZONE:Europe/Berlin
BEGIN:VEVENT
UID:63@nordost.info
DTSTART;TZID=Europe/Berlin:20240831T193000
DTEND;TZID=Europe/Berlin:20240831T193000
DTSTAMP:20240703T065751Z
URL:https://nordost.info/events/vollmondkonzert-im-ruppiner-tor-gransee/
SUMMARY:Vollmondkonzert im Ruppiner Tor Gransee
DESCRIPTION:Vollmondkonzert von Rainer Volkenborn und Pablo Polito
CATEGORIES:Konzerte
LOCATION:Ruppiner Tor\, Gransee\, Ruppiner Str. 61\, Gransee\, Brandenburg\
 , 16775\, Oberhavel\, Deutschland
GEO:53.00694560;13.15246950
X-APPLE-STRUCTURED-LOCATION;VALUE=URI;X-ADDRESS=Ruppiner Str. 61\, Gransee\
 , Brandenburg\, 16775\, Oberhavel\, Deutschland;X-APPLE-RADIUS=100;X-TITLE
 =Ruppiner Tor\, Gransee:geo:53.00694560,13.15246950
END:VEVENT
BEGIN:VTIMEZONE
TZID:Europe/Berlin
X-LIC-LOCATION:Europe/Berlin
BEGIN:DAYLIGHT
DTSTART:20240331T030000
TZOFFSETFROM:+0100
TZOFFSETTO:+0200
TZNAME:CEST
END:DAYLIGHT
END:VTIMEZONE
END:VCALENDAR