BEGIN:VCALENDAR
VERSION:2.0
PRODID:-//wp-events-plugin.com//7.2.3.1//EN
TZID:Europe/Berlin
X-WR-TIMEZONE:Europe/Berlin
BEGIN:VEVENT
UID:3@nordost.info
DTSTART;TZID=Europe/Berlin:20240619T170000
DTEND;TZID=Europe/Berlin:20240619T170000
DTSTAMP:20240615T134006Z
URL:https://nordost.info/events/stadtspaziergang-fuerstenbergs-vergessene-
 orte/
SUMMARY:Stadtspaziergang "Fürstenbergs vergessene Orte"
DESCRIPTION:Anmeldung über die Tourist- Information Fürstenberg/Havel ein
 en Tag vorher unter Telefon 033093 32254 oder per E-Mail unter info@fuerst
 enberger-seenland.de\n\nKosten: 5\,00 € pro Person
CATEGORIES:Führungen, Touren
LOCATION:Sowjetisches Denkmal Fürstenberg/Havel\, Bahnhofstraße\, Fürste
 nberg/Havel\, Brandenburg\, 16798\, Oberhavel\, Deutschland
GEO:53.18551677;13.14140051
X-APPLE-STRUCTURED-LOCATION;VALUE=URI;X-ADDRESS=Bahnhofstraße\, Fürstenbe
 rg/Havel\, Brandenburg\, 16798\, Oberhavel\, Deutschland;X-APPLE-RADIUS=10
 0;X-TITLE=Sowjetisches Denkmal Fürstenberg/Havel:geo:53.18551677,13.14140
 051
END:VEVENT
BEGIN:VTIMEZONE
TZID:Europe/Berlin
X-LIC-LOCATION:Europe/Berlin
BEGIN:DAYLIGHT
DTSTART:20240331T030000
TZOFFSETFROM:+0100
TZOFFSETTO:+0200
TZNAME:CEST
END:DAYLIGHT
END:VTIMEZONE
END:VCALENDAR