BEGIN:VCALENDAR
VERSION:2.0
PRODID:-//wp-events-plugin.com//7.2.3.1//EN
TZID:Europe/Berlin
X-WR-TIMEZONE:Europe/Berlin
BEGIN:VEVENT
UID:61@nordost.info
DTSTART;TZID=Europe/Berlin:20240713T190000
DTEND;TZID=Europe/Berlin:20240713T190000
DTSTAMP:20240703T065100Z
URL:https://nordost.info/events/sommermusik-im-turm-gransee/
SUMMARY:Sommermusik im Turm\, Gransee
DESCRIPTION:Sommermusik zum Mitmachen im Ruppiner Tor
CATEGORIES:Konzerte
LOCATION:Ruppiner Tor\, Gransee\, Ruppiner Str. 61\, Gransee\, Brandenburg\
 , 16775\, Oberhavel\, Deutschland
GEO:53.00694560;13.15246950
X-APPLE-STRUCTURED-LOCATION;VALUE=URI;X-ADDRESS=Ruppiner Str. 61\, Gransee\
 , Brandenburg\, 16775\, Oberhavel\, Deutschland;X-APPLE-RADIUS=100;X-TITLE
 =Ruppiner Tor\, Gransee:geo:53.00694560,13.15246950
END:VEVENT
BEGIN:VTIMEZONE
TZID:Europe/Berlin
X-LIC-LOCATION:Europe/Berlin
BEGIN:DAYLIGHT
DTSTART:20240331T030000
TZOFFSETFROM:+0100
TZOFFSETTO:+0200
TZNAME:CEST
END:DAYLIGHT
END:VTIMEZONE
END:VCALENDAR