BEGIN:VCALENDAR
VERSION:2.0
PRODID:-//wp-events-plugin.com//7.2.3.1//EN
TZID:Europe/Berlin
X-WR-TIMEZONE:Europe/Berlin
BEGIN:VEVENT
UID:70@nordost.info
DTSTART;TZID=Europe/Berlin:20240915T110000
DTEND;TZID=Europe/Berlin:20240915T110000
DTSTAMP:20240703T071238Z
URL:https://nordost.info/events/rotes-sofa-in-himmelpfort/
SUMMARY:"Rotes Sofa" mit Ivonne Hübner in Himmelpfort
DESCRIPTION:„Rotes Sofa“ mit Ivonne Hübner\, eine Lesung aus "Aus Salz
  und Asche"\, Moderator: Arno Sommer\, Musik: Thomas Vogel
CATEGORIES:Lesung
LOCATION:Mühle Himmelpfort\, Stolpseestrasse 2\, Himmelpfort\, Brandenburg
 \, 16798\, Oberhavel\, Deutschland
GEO:53.17571390;13.23199325
X-APPLE-STRUCTURED-LOCATION;VALUE=URI;X-ADDRESS=Stolpseestrasse 2\, Himmelp
 fort\, Brandenburg\, 16798\, Oberhavel\, Deutschland;X-APPLE-RADIUS=100;X-
 TITLE=Mühle Himmelpfort:geo:53.17571390,13.23199325
END:VEVENT
BEGIN:VTIMEZONE
TZID:Europe/Berlin
X-LIC-LOCATION:Europe/Berlin
BEGIN:DAYLIGHT
DTSTART:20240331T030000
TZOFFSETFROM:+0100
TZOFFSETTO:+0200
TZNAME:CEST
END:DAYLIGHT
END:VTIMEZONE
END:VCALENDAR