BEGIN:VCALENDAR
VERSION:2.0
PRODID:-//wp-events-plugin.com//7.2.3.1//EN
TZID:Europe/Berlin
X-WR-TIMEZONE:Europe/Berlin
BEGIN:VEVENT
UID:42@nordost.info
DTSTART;TZID=Europe/Berlin:20240628T160000
DTEND;TZID=Europe/Berlin:20240628T220000
DTSTAMP:20240626T135206Z
URL:https://nordost.info/events/musikpicknick-auf-der-festwiese-in-eden/
SUMMARY:Musikpicknick auf der Festwiese in Eden
DESCRIPTION:16:30 Uhr Kinderchor Ukraina Nova\n17:15 Uhr Edener Singekreis\
 n18:00 Uhr Fräulein Winkelmann\n19:30 Uhr Yetzt\n21:00 Uhr Rontano\n\nVer
 anstalter: Kulturverein Alte Mosterei Eden e.V.
LOCATION:Presshaus Eden\, Struveweg 503\, Oranienburg\, Brandenburg\, 16515
 \, Oberhavel\, Deutschland
GEO:52.74945098;13.20668274
X-APPLE-STRUCTURED-LOCATION;VALUE=URI;X-ADDRESS=Struveweg 503\, Oranienburg
 \, Brandenburg\, 16515\, Oberhavel\, Deutschland;X-APPLE-RADIUS=100;X-TITL
 E=Presshaus Eden:geo:52.74945098,13.20668274
END:VEVENT
BEGIN:VTIMEZONE
TZID:Europe/Berlin
X-LIC-LOCATION:Europe/Berlin
BEGIN:DAYLIGHT
DTSTART:20240331T030000
TZOFFSETFROM:+0100
TZOFFSETTO:+0200
TZNAME:CEST
END:DAYLIGHT
END:VTIMEZONE
END:VCALENDAR