BEGIN:VCALENDAR
VERSION:2.0
PRODID:-//wp-events-plugin.com//7.2.3.1//EN
TZID:Europe/Berlin
X-WR-TIMEZONE:Europe/Berlin
BEGIN:VEVENT
UID:83@nordost.info
DTSTART;TZID=Europe/Berlin:20240906T190000
DTEND;TZID=Europe/Berlin:20240906T210000
DTSTAMP:20240814T113416Z
URL:https://nordost.info/events/joerg-buttgereit-nicht-jugendfrei-tagebuch
 -aus-west-berlin/
SUMMARY:Jörg Buttgereit : Nicht jugendfrei! Tagebuch aus West-Berlin
DESCRIPTION:Multimediale Lesung\, Eintritt 8\,00 Euro
CATEGORIES:Lesung
LOCATION:Klosterscheune Zehdenick\, Im Kloster\, Zehdenick\, Brandenburg\, 
 16792\, Oberhavel\, Deutschland
GEO:52.97732635;13.33758177
X-APPLE-STRUCTURED-LOCATION;VALUE=URI;X-ADDRESS=Im Kloster\, Zehdenick\, Br
 andenburg\, 16792\, Oberhavel\, Deutschland;X-APPLE-RADIUS=100;X-TITLE=Klo
 sterscheune Zehdenick:geo:52.97732635,13.33758177
END:VEVENT
BEGIN:VTIMEZONE
TZID:Europe/Berlin
X-LIC-LOCATION:Europe/Berlin
BEGIN:DAYLIGHT
DTSTART:20240331T030000
TZOFFSETFROM:+0100
TZOFFSETTO:+0200
TZNAME:CEST
END:DAYLIGHT
END:VTIMEZONE
END:VCALENDAR