BEGIN:VCALENDAR
VERSION:2.0
PRODID:-//wp-events-plugin.com//7.2.3.1//EN
TZID:Europe/Berlin
X-WR-TIMEZONE:Europe/Berlin
BEGIN:VEVENT
UID:57@nordost.info
DTSTART;TZID=Europe/Berlin:20240707T140000
DTEND;TZID=Europe/Berlin:20240707T170000
DTSTAMP:20240702T152609Z
URL:https://nordost.info/events/hof-und-strassenflohmarkt-bredereiche/
SUMMARY:Hof- und Straßenflohmarkt Bredereiche
DESCRIPTION:Es wird zum ersten Hof- und Straßenflohmarkt am Sonntag\, dem 
 07.07.2024 von 14:00 Uhr bis 17:00 Uhr in der Friedhofstraße in 16798 Bre
 dereiche mit Kaffee und Kuchen eingeladen.\n\nSelbstgemachtes\, Kleidung\,
  Haushaltsartikel\, Spielzeug\, Duftlampen u.v.m.\n\nSpenden für Kaffee u
 nd Kuchen kommen der Gruppe an Mütter zugute\, die sich ehrenamtlich im J
 ugendclub in Bredereiche engagieren.\n\n&nbsp\;
CATEGORIES:Flohmärkte
LOCATION:Bredereiche\, Dorfstrasse\, Bredereiche\, Brandenburg\, 16798\, Ob
 erhavel\, Deutschland
GEO:53.13783608;13.24281336
X-APPLE-STRUCTURED-LOCATION;VALUE=URI;X-ADDRESS=Dorfstrasse\, Bredereiche\,
  Brandenburg\, 16798\, Oberhavel\, Deutschland;X-APPLE-RADIUS=100;X-TITLE=
 Bredereiche:geo:53.13783608,13.24281336
END:VEVENT
BEGIN:VTIMEZONE
TZID:Europe/Berlin
X-LIC-LOCATION:Europe/Berlin
BEGIN:DAYLIGHT
DTSTART:20240331T030000
TZOFFSETFROM:+0100
TZOFFSETTO:+0200
TZNAME:CEST
END:DAYLIGHT
END:VTIMEZONE
END:VCALENDAR