BEGIN:VCALENDAR
VERSION:2.0
PRODID:-//wp-events-plugin.com//7.2.3.1//EN
TZID:Europe/Berlin
X-WR-TIMEZONE:Europe/Berlin
BEGIN:VEVENT
UID:47@nordost.info
DTSTART;TZID=Europe/Berlin:20240629T130000
DTEND;TZID=Europe/Berlin:20240629T130000
DTSTAMP:20240627T103722Z
URL:https://nordost.info/events/dorffest-ellershagen/
SUMMARY:Dorffest Ellershagen
DESCRIPTION:Das Dorffest in Ellershagen findet am 29.06.2024 auf dem Dorfpl
 atz statt. Die Polizei kodiert kostenlos Fahrräder\, Polizei und Feuerweh
 r geben Einblicke in ihre Arbeit\, ein Kinder-Fahrrad-Parcour ist aufgebau
 t. Die Dorffrauen backen für die Schlemmermeile. Aussteller (Handwerk\, S
 elbstgemachtes) sind ebenfalls auf dem Dorffest anwesend.\n\nVeranstalter:
  Gemeinde Halenbeck-Rohlsdorf\, Gemeindeteil Ellershagen
CATEGORIES:Markt &amp; Fest
LOCATION:Dorfplatz Ellershagen\, Ellershagener Strasse\, Ellershagen\, Bran
 denburg\, 16945\, Prignitz\, Deutschland
GEO:53.21015590;12.29229880
X-APPLE-STRUCTURED-LOCATION;VALUE=URI;X-ADDRESS=Ellershagener Strasse\, Ell
 ershagen\, Brandenburg\, 16945\, Prignitz\, Deutschland;X-APPLE-RADIUS=100
 ;X-TITLE=Dorfplatz Ellershagen:geo:53.21015590,12.29229880
END:VEVENT
BEGIN:VTIMEZONE
TZID:Europe/Berlin
X-LIC-LOCATION:Europe/Berlin
BEGIN:DAYLIGHT
DTSTART:20240331T030000
TZOFFSETFROM:+0100
TZOFFSETTO:+0200
TZNAME:CEST
END:DAYLIGHT
END:VTIMEZONE
END:VCALENDAR