BEGIN:VCALENDAR
VERSION:2.0
PRODID:-//wp-events-plugin.com//7.2.3.1//EN
TZID:Europe/Berlin
X-WR-TIMEZONE:Europe/Berlin
BEGIN:VEVENT
UID:8@nordost.info
DTSTART;TZID=Europe/Berlin;VALUE=DATE:20240705
DTEND;TZID=Europe/Berlin;VALUE=DATE:20240708
DTSTAMP:20240703T064058Z
URL:https://nordost.info/events/725-jahre-himmelpfort/
SUMMARY:725 Jahre Himmelpfort
DESCRIPTION:725-Jahr-Feier zur Gründung von Himmelpfort.\n\nFreitag\, 05.0
 7.2024\n\n 	ab 16:00 Uhr Mittelaltermarkt auf der Klosterwiese\n 	17:00 Uh
 r Festveranstaltung und die offizielle Eröffnung des Brauhauses Himmelpfo
 rt nach dem Wiederaufbau\n 	22:00 Uhr Feuershow an der Seebühne\n\nSamsta
 g\, 06.07.2024\n\n 	Festumzug ab 9:30 Uhr vom Denkmal am Eichberg durch Kl
 osterstrasse\, Poststrasse\, Hausseestraße zur Klosterwiese\n 	ab 10:00 M
 ittelaltermarkt auf der Klosterwiese\n 	ab 21:00 Uhr Livemusik auf der Bü
 hne mit "Friday Night" und Disco mit Murkel\n\nSonntag\, 07.07.2024\n\n 	a
 b 9:00 Uhr Mittelaltermarkt auf der Klosterwiese\n 	10:00 Uhr Open-Air-Fes
 tgottesdienst\n 	11:00 Uhr  Frühschoppen mit Musik auf der Klosterwiese\
 n 	ca. 11:15 Uhr Einweihung der Infotafel des Brandenburgischen Pilgerwegs
 \n 	17:00 Uhr Führung mit Geschichten und Sagen rund um Himmelpfort mit L
 andschaftsführer Thomas Röhlinger\n
CATEGORIES:Markt &amp; Fest
LOCATION:Klosterwiese Himmelpfort\, Kirchweg\, Himmelpfort\, Brandenburg\, 
 16798\, Oberhavel\, Deutschland
GEO:53.17782312;13.22945418
X-APPLE-STRUCTURED-LOCATION;VALUE=URI;X-ADDRESS=Kirchweg\, Himmelpfort\, Br
 andenburg\, 16798\, Oberhavel\, Deutschland;X-APPLE-RADIUS=100;X-TITLE=Klo
 sterwiese Himmelpfort:geo:53.17782312,13.22945418
END:VEVENT
BEGIN:VTIMEZONE
TZID:Europe/Berlin
X-LIC-LOCATION:Europe/Berlin
BEGIN:DAYLIGHT
DTSTART:20240331T030000
TZOFFSETFROM:+0100
TZOFFSETTO:+0200
TZNAME:CEST
END:DAYLIGHT
END:VTIMEZONE
END:VCALENDAR