BEGIN:VCALENDAR
VERSION:2.0
PRODID:-//wp-events-plugin.com//7.2.3.1//EN
TZID:Europe/Berlin
X-WR-TIMEZONE:Europe/Berlin
BEGIN:VEVENT
UID:43@nordost.info
DTSTART;TZID=Europe/Berlin:20240628T180000
DTEND;TZID=Europe/Berlin:20240628T180000
DTSTAMP:20240627T080708Z
URL:https://nordost.info/events/28-waldfest-in-menz/
SUMMARY:28. Waldfest in Menz
DESCRIPTION:18:00 Uhr Eröffnung des Waldfestes mit anschließendem Lagerfe
 uer\n20:30 Uhr Wettrudern über den Roofensee
CATEGORIES:Markt &amp; Fest
LOCATION:Friedensplatz Menz\, Friedensplatz\, Menz\, Brandenburg\, 16775\, 
 Oberhavel\, Deutschland
GEO:53.10445580;13.05084810
X-APPLE-STRUCTURED-LOCATION;VALUE=URI;X-ADDRESS=Friedensplatz\, Menz\, Bran
 denburg\, 16775\, Oberhavel\, Deutschland;X-APPLE-RADIUS=100;X-TITLE=Fried
 ensplatz Menz:geo:53.10445580,13.05084810
END:VEVENT
BEGIN:VTIMEZONE
TZID:Europe/Berlin
X-LIC-LOCATION:Europe/Berlin
BEGIN:DAYLIGHT
DTSTART:20240331T030000
TZOFFSETFROM:+0100
TZOFFSETTO:+0200
TZNAME:CEST
END:DAYLIGHT
END:VTIMEZONE
END:VCALENDAR